BEGIN:VCALENDAR
VERSION:2.0
PRODID:-//Weare Township - ECPv6.15.20//NONSGML v1.0//EN
CALSCALE:GREGORIAN
METHOD:PUBLISH
X-WR-CALNAME:Weare Township
X-ORIGINAL-URL:https://wearetownship.org
X-WR-CALDESC:Events for Weare Township
REFRESH-INTERVAL;VALUE=DURATION:PT1H
X-Robots-Tag:noindex
X-PUBLISHED-TTL:PT1H
BEGIN:VTIMEZONE
TZID:UTC
BEGIN:STANDARD
TZOFFSETFROM:+0000
TZOFFSETTO:+0000
TZNAME:UTC
DTSTART:20240101T000000
END:STANDARD
END:VTIMEZONE
BEGIN:VEVENT
DTSTART;TZID=UTC:20250825T180000
DTEND;TZID=UTC:20250825T193000
DTSTAMP:20260422T052211
CREATED:20250813T145144Z
LAST-MODIFIED:20250822T002416Z
UID:3044-1756144800-1756150200@wearetownship.org
SUMMARY:AUGUST 2025 PLANNING COMMISSION MEETING
DESCRIPTION:Planning Commission Meeting: 8/25/25 at 7pm\, with a Special Meeting starting at 6pm at St. Joseph’s Parish Hall at 2349 West Jackson Road Hart\, MI 49420. Consumer’s Energy will be attending. All are welcome! \n  \nAny cancellations or rescheduling will be posted on our website as soon as the changes are agreed upon by our board members. \nTo contact our Township Board\, click HERE. \nMEETING ADJOURNMENT TIMES MAY VARY. 
URL:https://wearetownship.org/event/august-2025-planning-commission-meeting/
LOCATION:St. Joseph Parish Hall\, 2349 West Jackson Road\, Hart\, MI\, 49420\, United States
END:VEVENT
END:VCALENDAR