BEGIN:VCALENDAR
VERSION:2.0
PRODID:-//Weare Township - ECPv6.15.20//NONSGML v1.0//EN
CALSCALE:GREGORIAN
METHOD:PUBLISH
X-ORIGINAL-URL:https://wearetownship.org
X-WR-CALDESC:Events for Weare Township
REFRESH-INTERVAL;VALUE=DURATION:PT1H
X-Robots-Tag:noindex
X-PUBLISHED-TTL:PT1H
BEGIN:VTIMEZONE
TZID:UTC
BEGIN:STANDARD
TZOFFSETFROM:+0000
TZOFFSETTO:+0000
TZNAME:UTC
DTSTART:20250101T000000
END:STANDARD
END:VTIMEZONE
BEGIN:VEVENT
DTSTART;TZID=UTC:20260518T190000
DTEND;TZID=UTC:20260518T193000
DTSTAMP:20260421T164428
CREATED:20230210T011441Z
LAST-MODIFIED:20260415T052022Z
UID:2448-1779130800-1779132600@wearetownship.org
SUMMARY:*Rescheduled* MAY 2026 BOARD MEETING
DESCRIPTION:*This meeting has been rescheduled from May 11th to May 18th.* \nOur board meets on the 2nd Monday of every month. Any cancellations or rescheduling will be posted on our website as soon as the changes are agreed upon by our board members. \nTo view the archive of our previous meeting minutes\, click HERE. \nTo contact our Township Board\, click HERE. \nMEETING ADJOURNMENT TIMES MAY VARY. 
URL:https://wearetownship.org/event/may-2026-board-meeting/
LOCATION:Weare Township Hall\, 6506 N. Oceana Drive\, Hart\, 49420
CATEGORIES:Regular Board Meeting
END:VEVENT
END:VCALENDAR