BEGIN:VCALENDAR
VERSION:2.0
PRODID:-//Weare Township - ECPv6.15.20//NONSGML v1.0//EN
CALSCALE:GREGORIAN
METHOD:PUBLISH
X-WR-CALNAME:Weare Township
X-ORIGINAL-URL:https://wearetownship.org
X-WR-CALDESC:Events for Weare Township
REFRESH-INTERVAL;VALUE=DURATION:PT1H
X-Robots-Tag:noindex
X-PUBLISHED-TTL:PT1H
BEGIN:VTIMEZONE
TZID:UTC
BEGIN:STANDARD
TZOFFSETFROM:+0000
TZOFFSETTO:+0000
TZNAME:UTC
DTSTART:20250101T000000
END:STANDARD
END:VTIMEZONE
BEGIN:VEVENT
DTSTART;TZID=UTC:20260502T090000
DTEND;TZID=UTC:20260502T130000
DTSTAMP:20260420T085913
CREATED:20250922T015817Z
LAST-MODIFIED:20260415T052545Z
UID:3086-1777712400-1777726800@wearetownship.org
SUMMARY:Dump Day 2026
DESCRIPTION:Dump Day is 5/2/26 at the hall from 9am to 1pm. \nNO tires\, Household Waste\, Hazardous Chemicals or Appliances.
URL:https://wearetownship.org/event/dump-day-2026/
LOCATION:Weare Township Hall\, 6506 N. Oceana Drive\, Hart\, 49420
CATEGORIES:Township Events
END:VEVENT
END:VCALENDAR