BEGIN:VCALENDAR
VERSION:2.0
PRODID:-//Weare Township - ECPv6.15.20//NONSGML v1.0//EN
CALSCALE:GREGORIAN
METHOD:PUBLISH
X-WR-CALNAME:Weare Township
X-ORIGINAL-URL:https://wearetownship.org
X-WR-CALDESC:Events for Weare Township
REFRESH-INTERVAL;VALUE=DURATION:PT1H
X-Robots-Tag:noindex
X-PUBLISHED-TTL:PT1H
BEGIN:VTIMEZONE
TZID:UTC
BEGIN:STANDARD
TZOFFSETFROM:+0000
TZOFFSETTO:+0000
TZNAME:UTC
DTSTART:20220101T000000
END:STANDARD
END:VTIMEZONE
BEGIN:VEVENT
DTSTART;TZID=UTC:20231211T193000
DTEND;TZID=UTC:20231211T200000
DTSTAMP:20260422T214858
CREATED:20230210T011822Z
LAST-MODIFIED:20230210T011841Z
UID:2462-1702323000-1702324800@wearetownship.org
SUMMARY:DECEMBER 2023 BOARD MEETING
DESCRIPTION:Our board meets on the 2nd Monday of every month. Any cancellations or rescheduling will be posted on our website as soon as the changes are agreed upon by our board members. \nTo view the archive of our previous meeting minutes\, click HERE. \nTo contact our Township Board\, click HERE. \nMEETING ADJOURNMENT TIMES MAY VARY. 
URL:https://wearetownship.org/event/december-2023-board-meeting/
LOCATION:Weare Township Hall\, 6506 N. Oceana Drive\, Hart\, 49420
END:VEVENT
BEGIN:VEVENT
DTSTART;TZID=UTC:20231007T090000
DTEND;TZID=UTC:20231007T130000
DTSTAMP:20260422T214858
CREATED:20221228T053008Z
LAST-MODIFIED:20221228T053049Z
UID:2390-1696669200-1696683600@wearetownship.org
SUMMARY:OCTOBER TOWNSHIP CLEAN-UP DAY 2023
DESCRIPTION:Dumpsters Will Be Available \n\n\n\n\n\n1st Saturday in May & October\n\n\n\n\n\nFor residents only. A coupon from the Township and a valid driver’s license will be required when you drop-off items.
URL:https://wearetownship.org/event/october-township-clean-up-day-2023/
LOCATION:Weare Township Hall\, 6506 N. Oceana Drive\, Hart\, 49420
END:VEVENT
BEGIN:VEVENT
DTSTART;TZID=UTC:20230506T090000
DTEND;TZID=UTC:20230506T130000
DTSTAMP:20260422T214858
CREATED:20221228T053000Z
LAST-MODIFIED:20230502T153709Z
UID:2388-1683363600-1683378000@wearetownship.org
SUMMARY:MAY TOWNSHIP CLEAN-UP DAY 2023
DESCRIPTION:Dumpsters Will Be Available \n\n\n\n\n\n1st Saturday in May & October\n\n\n\n\n\nFor residents only. A valid driver’s license will be required when you drop-off items.
URL:https://wearetownship.org/event/may-township-clean-up-day-2023/
LOCATION:Weare Township Hall\, 6506 N. Oceana Drive\, Hart\, 49420
END:VEVENT
BEGIN:VEVENT
DTSTART;TZID=UTC:20230313T193000
DTEND;TZID=UTC:20230313T200000
DTSTAMP:20260422T214858
CREATED:20221120T041338Z
LAST-MODIFIED:20250521T032428Z
UID:1857-1678735800-1678737600@wearetownship.org
SUMMARY:MARCH 2023 BOARD MEETING
DESCRIPTION:Our board meets on the 2nd Monday of every month. Any cancellations or rescheduling will be posted on our website as soon as the changes are agreed upon by our board members. \nTo view the archive of our previous meeting minutes\, click HERE. \nTo contact our Township Board\, click HERE. \nMEETING ADJOURNMENT TIMES MAY VARY. 
URL:https://wearetownship.org/event/march-2023-board-meeting/
LOCATION:Weare Township Hall\, 6506 N. Oceana Drive\, Hart\, 49420
END:VEVENT
BEGIN:VEVENT
DTSTART;TZID=UTC:20230307T083000
DTEND;TZID=UTC:20230307T100000
DTSTAMP:20260422T214858
CREATED:20230131T033115Z
LAST-MODIFIED:20230131T033315Z
UID:2429-1678177800-1678183200@wearetownship.org
SUMMARY:2023 BOARD OF REVIEW ORGANIZATIONAL MEETING
DESCRIPTION:  \nTo contact our Township Board\, click HERE. \nMEETING ADJOURNMENT TIMES MAY VARY. 
URL:https://wearetownship.org/event/2023-board-of-review-organizational-meeting/
LOCATION:Weare Township Hall\, 6506 N. Oceana Drive\, Hart\, 49420
END:VEVENT
END:VCALENDAR