BEGIN:VCALENDAR
VERSION:2.0
PRODID:-//Weare Township - ECPv6.15.20//NONSGML v1.0//EN
CALSCALE:GREGORIAN
METHOD:PUBLISH
X-WR-CALNAME:Weare Township
X-ORIGINAL-URL:https://wearetownship.org
X-WR-CALDESC:Events for Weare Township
REFRESH-INTERVAL;VALUE=DURATION:PT1H
X-Robots-Tag:noindex
X-PUBLISHED-TTL:PT1H
BEGIN:VTIMEZONE
TZID:UTC
BEGIN:STANDARD
TZOFFSETFROM:+0000
TZOFFSETTO:+0000
TZNAME:UTC
DTSTART:20250101T000000
END:STANDARD
END:VTIMEZONE
BEGIN:VEVENT
DTSTART;TZID=UTC:20260728T190000
DTEND;TZID=UTC:20260728T193000
DTSTAMP:20260421T212955
CREATED:20230210T012235Z
LAST-MODIFIED:20260126T051132Z
UID:2469-1785265200-1785267000@wearetownship.org
SUMMARY:JULY 2026 PLANNING COMMISSION MEETING
DESCRIPTION:Any cancellations or rescheduling will be posted on our website as soon as the changes are agreed upon by our board members. \nTo contact our Township Board\, click HERE. \nMEETING ADJOURNMENT TIMES MAY VARY. 
URL:https://wearetownship.org/event/july-2026-planning-commission-meeting/
LOCATION:Weare Township Hall\, 6506 N. Oceana Drive\, Hart\, 49420
CATEGORIES:Planning Commission
END:VEVENT
BEGIN:VEVENT
DTSTART;TZID=UTC:20260810T190000
DTEND;TZID=UTC:20260810T193000
DTSTAMP:20260421T212955
CREATED:20230210T011622Z
LAST-MODIFIED:20260126T052333Z
UID:2454-1786388400-1786390200@wearetownship.org
SUMMARY:AUGUST 2026 BOARD MEETING
DESCRIPTION:Our board meets on the 2nd Monday of every month. Any cancellations or rescheduling will be posted on our website as soon as the changes are agreed upon by our board members. \nTo view the archive of our previous meeting minutes\, click HERE. \nTo contact our Township Board\, click HERE. \nMEETING ADJOURNMENT TIMES MAY VARY. 
URL:https://wearetownship.org/event/august-2026-board-meeting/
LOCATION:Weare Township Hall\, 6506 N. Oceana Drive\, Hart\, 49420
CATEGORIES:Regular Board Meeting
END:VEVENT
BEGIN:VEVENT
DTSTART;TZID=UTC:20260914T190000
DTEND;TZID=UTC:20260914T193000
DTSTAMP:20260421T212955
CREATED:20230210T011651Z
LAST-MODIFIED:20260126T052421Z
UID:2456-1789412400-1789414200@wearetownship.org
SUMMARY:SEPTEMBER 2026 BOARD MEETING
DESCRIPTION:Our board meets on the 2nd Monday of every month. Any cancellations or rescheduling will be posted on our website as soon as the changes are agreed upon by our board members. \nTo view the archive of our previous meeting minutes\, click HERE. \nTo contact our Township Board\, click HERE. \nMEETING ADJOURNMENT TIMES MAY VARY. 
URL:https://wearetownship.org/event/september-2026-board-meeting/
LOCATION:Weare Township Hall\, 6506 N. Oceana Drive\, Hart\, 49420
CATEGORIES:Regular Board Meeting
END:VEVENT
BEGIN:VEVENT
DTSTART;TZID=UTC:20260929T140000
DTEND;TZID=UTC:20260929T143000
DTSTAMP:20260421T212955
CREATED:20230210T012443Z
LAST-MODIFIED:20260126T051248Z
UID:2471-1790690400-1790692200@wearetownship.org
SUMMARY:SEPTEMBER 2026 PLANNING COMMISSION MEETING
DESCRIPTION:Any cancellations or rescheduling will be posted on our website as soon as the changes are agreed upon by our board members. \nTo contact our Township Board\, click HERE. \nMEETING ADJOURNMENT TIMES MAY VARY. 
URL:https://wearetownship.org/event/september-2026-planning-commission-meeting/
LOCATION:Weare Township Hall\, 6506 N. Oceana Drive\, Hart\, 49420
CATEGORIES:Planning Commission
END:VEVENT
BEGIN:VEVENT
DTSTART;TZID=UTC:20261012T190000
DTEND;TZID=UTC:20261012T193000
DTSTAMP:20260421T212955
CREATED:20230210T011723Z
LAST-MODIFIED:20260126T052504Z
UID:2458-1791831600-1791833400@wearetownship.org
SUMMARY:OCTOBER 2026 BOARD MEETING
DESCRIPTION:Our board meets on the 2nd Monday of every month. Any cancellations or rescheduling will be posted on our website as soon as the changes are agreed upon by our board members. \nTo view the archive of our previous meeting minutes\, click HERE. \nTo contact our Township Board\, click HERE. \nMEETING ADJOURNMENT TIMES MAY VARY. 
URL:https://wearetownship.org/event/october-2026-board-meeting/
LOCATION:Weare Township Hall\, 6506 N. Oceana Drive\, Hart\, 49420
CATEGORIES:Regular Board Meeting
END:VEVENT
BEGIN:VEVENT
DTSTART;TZID=UTC:20261109T190000
DTEND;TZID=UTC:20261109T193000
DTSTAMP:20260421T212955
CREATED:20230210T011752Z
LAST-MODIFIED:20260126T052603Z
UID:2460-1794250800-1794252600@wearetownship.org
SUMMARY:NOVEMBER 2026 BOARD MEETING
DESCRIPTION:Our board meets on the 2nd Monday of every month. Any cancellations or rescheduling will be posted on our website as soon as the changes are agreed upon by our board members. \nTo view the archive of our previous meeting minutes\, click HERE. \nTo contact our Township Board\, click HERE. \nMEETING ADJOURNMENT TIMES MAY VARY. 
URL:https://wearetownship.org/event/november-2026-board-meeting/
LOCATION:Weare Township Hall\, 6506 N. Oceana Drive\, Hart\, 49420
CATEGORIES:Regular Board Meeting
END:VEVENT
BEGIN:VEVENT
DTSTART;TZID=UTC:20261124T190000
DTEND;TZID=UTC:20261124T193000
DTSTAMP:20260421T212955
CREATED:20230210T012455Z
LAST-MODIFIED:20260126T051400Z
UID:2473-1795546800-1795548600@wearetownship.org
SUMMARY:NOVEMBER 2026 PLANNING COMMISSION MEETING
DESCRIPTION:Any cancellations or rescheduling will be posted on our website as soon as the changes are agreed upon by our board members. \nTo contact our Township Board\, click HERE. \nMEETING ADJOURNMENT TIMES MAY VARY. 
URL:https://wearetownship.org/event/november-2026-planning-commission-meeting/
LOCATION:Weare Township Hall\, 6506 N. Oceana Drive\, Hart\, 49420
CATEGORIES:Planning Commission
END:VEVENT
BEGIN:VEVENT
DTSTART;TZID=UTC:20261214T190000
DTEND;TZID=UTC:20261214T193000
DTSTAMP:20260421T212955
CREATED:20250521T032225Z
LAST-MODIFIED:20260126T052701Z
UID:2989-1797274800-1797276600@wearetownship.org
SUMMARY:DECEMBER 2026 BOARD MEETING
DESCRIPTION:Our board meets on the 2nd Monday of every month. Any cancellations or rescheduling will be posted on our website as soon as the changes are agreed upon by our board members. \nTo view the archive of our previous meeting minutes\, click HERE. \nTo contact our Township Board\, click HERE. \nMEETING ADJOURNMENT TIMES MAY VARY. 
URL:https://wearetownship.org/event/december-2026-board-meeting/
LOCATION:Weare Township Hall\, 6506 N. Oceana Drive\, Hart\, 49420
CATEGORIES:Regular Board Meeting
END:VEVENT
END:VCALENDAR