BEGIN:VCALENDAR
VERSION:2.0
PRODID:-//Weare Township - ECPv6.15.20//NONSGML v1.0//EN
CALSCALE:GREGORIAN
METHOD:PUBLISH
X-WR-CALNAME:Weare Township
X-ORIGINAL-URL:https://wearetownship.org
X-WR-CALDESC:Events for Weare Township
REFRESH-INTERVAL;VALUE=DURATION:PT1H
X-Robots-Tag:noindex
X-PUBLISHED-TTL:PT1H
BEGIN:VTIMEZONE
TZID:UTC
BEGIN:STANDARD
TZOFFSETFROM:+0000
TZOFFSETTO:+0000
TZNAME:UTC
DTSTART:20220101T000000
END:STANDARD
END:VTIMEZONE
BEGIN:VEVENT
DTSTART;TZID=UTC:20230307T083000
DTEND;TZID=UTC:20230307T100000
DTSTAMP:20260421T214729
CREATED:20230131T033115Z
LAST-MODIFIED:20230131T033315Z
UID:2429-1678177800-1678183200@wearetownship.org
SUMMARY:2023 BOARD OF REVIEW ORGANIZATIONAL MEETING
DESCRIPTION:  \nTo contact our Township Board\, click HERE. \nMEETING ADJOURNMENT TIMES MAY VARY. 
URL:https://wearetownship.org/event/2023-board-of-review-organizational-meeting/
LOCATION:Weare Township Hall\, 6506 N. Oceana Drive\, Hart\, 49420
END:VEVENT
END:VCALENDAR