BEGIN:VCALENDAR
VERSION:2.0
PRODID:-//Weare Township - ECPv6.15.20//NONSGML v1.0//EN
CALSCALE:GREGORIAN
METHOD:PUBLISH
X-ORIGINAL-URL:https://wearetownship.org
X-WR-CALDESC:Events for Weare Township
REFRESH-INTERVAL;VALUE=DURATION:PT1H
X-Robots-Tag:noindex
X-PUBLISHED-TTL:PT1H
BEGIN:VTIMEZONE
TZID:UTC
BEGIN:STANDARD
TZOFFSETFROM:+0000
TZOFFSETTO:+0000
TZNAME:UTC
DTSTART:20240101T000000
END:STANDARD
END:VTIMEZONE
BEGIN:VEVENT
DTSTART;TZID=UTC:20250915T190000
DTEND;TZID=UTC:20250915T193000
DTSTAMP:20260422T020324
CREATED:20250908T153850Z
LAST-MODIFIED:20250908T153850Z
UID:3075-1757962800-1757964600@wearetownship.org
SUMMARY:SPECIAL PLANNING COMMISSION MEETING
DESCRIPTION:Any cancellations or rescheduling will be posted on our website as soon as the changes are agreed upon by our board members. \nTo contact our Township Board\, click HERE. \nMEETING ADJOURNMENT TIMES MAY VARY. 
URL:https://wearetownship.org/event/special-planning-commission-meeting/
LOCATION:Weare Township Hall\, 6506 N. Oceana Drive\, Hart\, 49420
END:VEVENT
END:VCALENDAR